BEGIN:VCALENDAR
VERSION:2.0
PRODID:-//Sahbi Chtioui - ECPv6.5.0//NONSGML v1.0//EN
CALSCALE:GREGORIAN
METHOD:PUBLISH
X-WR-CALNAME:Sahbi Chtioui
X-ORIGINAL-URL:https://beta.sahbisculptor.com
X-WR-CALDESC:Events for Sahbi Chtioui
REFRESH-INTERVAL;VALUE=DURATION:PT1H
X-Robots-Tag:noindex
X-PUBLISHED-TTL:PT1H
BEGIN:VTIMEZONE
TZID:UTC
BEGIN:STANDARD
TZOFFSETFROM:+0000
TZOFFSETTO:+0000
TZNAME:UTC
DTSTART:20230101T000000
END:STANDARD
END:VTIMEZONE
BEGIN:VEVENT
DTSTART;TZID=UTC:20231218T080000
DTEND;TZID=UTC:20240116T170000
DTSTAMP:20260421T044633
CREATED:20190531T075858Z
LAST-MODIFIED:20191207T105157Z
UID:274-1702886400-1705424400@beta.sahbisculptor.com
SUMMARY:"The Pilgrim Mourning His Dead Ass"
DESCRIPTION:Etiam semper\, nunc vitae volutpat efficitur\, elit nibh egestas velit\, amet euismod justo justo pharetra ipsum. Mauris tincidunt magna\, ut fringilla erat ultrices et. Class aptent taciti sociosqu ad litora torquent per conubia nostra\, per inceptos himenaeos. Donec a metus eget libero efficitur tempor. Mauris bibendum mi leo\, at pulvinar leo cursus congue. Aenean tristique metus diam\, id mollis magna efficitur nec. Sed enenatis arcu nisl\, ac pharetra felis vestibulum vitae. Aenean sit amet pharetra eros\, et condimentum tortor. Class aptent taciti sociosqu ad litora torquent per conubia nostra\, per inceptos himenaeos. Aenean a dolor turpis. 						\n				\n				\n				\n			Buy Ticket
URL:https://beta.sahbisculptor.com/event/the-pilgrim-mourning-his-dead-ass/
LOCATION:Queens\, New York\, 34th Ave\, NY\, 11106\, United States
CATEGORIES:Exhibitions
ATTACH;FMTTYPE=image/jpeg:https://beta.sahbisculptor.com/wp-content/uploads/2019/05/image-72-copyright.jpg
ORGANIZER;CN="Ozeum Art & History Museum":MAILTO:yoursite@example.com
END:VEVENT
END:VCALENDAR